BEGIN:VCALENDAR
VERSION:2.0
METHOD:PUBLISH
PRODID:-//Centerboard Wochenkalender//DE
NAME:sekli
X-WR-CALNAME:sekli
DESCRIPTION:Der Stundenplan der Schule sekli
X-WR-CALDESC:Der Stundenplan der Schule sekli
TIMEZONE-ID:Europe/Zurich
X-WR-TIMEZONE:Europe/Zurich
URL:https://portal.sbl.ch/sekli/cindex.php?longurl=PUjo2h9g7Gv2rPKiPR96exSbFkGyGK4tyXRZw359vmbyuZuMHKsiAk0CZcw4epEy&nocache=1
REFRESH-INTERVAL;VALUE=DURATION:P1D
X-PUBLISHED-TTL:PT1M
BEGIN:VTIMEZONE
TZID:Europe/Zurich
TZURL:http://tzurl.org/zoneinfo/Europe/Zurich
BEGIN:DAYLIGHT
TZOFFSETFROM:+0100
TZOFFSETTO:+0200
TZNAME:CEST
DTSTART:19810329T020000
RRULE:FREQ=YEARLY;BYMONTH=3;BYDAY=-1SU
END:DAYLIGHT
BEGIN:STANDARD
TZOFFSETFROM:+0200
TZOFFSETTO:+0100
TZNAME:CET
DTSTART:19961027T030000
RRULE:FREQ=YEARLY;BYMONTH=10;BYDAY=-1SU
END:STANDARD
END:VTIMEZONE
BEGIN:VEVENT
UID:20260118etT_76096etetetTermin@centerboard.ch
DTSTART;VALUE=DATE:20260118
DURATION:P1D
LOCATION:
SUMMARY:Semesterwechsel
PRIORITY:1
CLASS:PUBLIC
END:VEVENT
BEGIN:VEVENT
UID:20270117etT_76102etetetTermin@centerboard.ch
DTSTART;VALUE=DATE:20270117
DURATION:P1D
LOCATION:
SUMMARY:Semesterwechsel
PRIORITY:1
CLASS:PUBLIC
END:VEVENT
BEGIN:VEVENT
UID:20270703etT_76105etetetTermin@centerboard.ch
DTSTART;VALUE=DATE:20270703
DURATION:P44D
LOCATION:
SUMMARY:Sommerferien
PRIORITY:1
CLASS:PUBLIC
END:VEVENT
BEGIN:VEVENT
UID:20270517etT_76107etetetTermin@centerboard.ch
DTSTART;VALUE=DATE:20270517
DURATION:P1D
LOCATION:
SUMMARY:Pfingstmontag, unterrichtsfrei
PRIORITY:1
CLASS:PUBLIC
END:VEVENT
BEGIN:VEVENT
UID:20251113etT_83791etetetTermin@centerboard.ch
DTSTART;VALUE=DATE:20251113
DURATION:P1D
LOCATION:Sek Liestal
SUMMARY:Zukunftstag (Spezialprogramm)
PRIORITY:1
CLASS:PUBLIC
END:VEVENT
BEGIN:VEVENT
UID:20251110etT_83792etetetTermin@centerboard.ch
DTSTART;VALUE=DATE:20251110
DURATION:P5D
LOCATION:Sek Liestal
SUMMARY:Wirtschaftswoche BO alle 2.Klassen
PRIORITY:1
CLASS:PUBLIC
END:VEVENT
BEGIN:VEVENT
UID:20251126etT_83796etetetTermin@centerboard.ch
DTSTART;VALUE=DATE:20251126
DURATION:P5D
LOCATION:St. Jakob Halle Münchenstein
SUMMARY:Berufsschau
PRIORITY:1
CLASS:PUBLIC
END:VEVENT
BEGIN:VEVENT
UID:20251219etT_83801etetetTermin@centerboard.ch
DTSTART;VALUE=DATE:20251219
DURATION:P1D
LOCATION:Sek Liestal
SUMMARY:Notenschluss für 3.Klassen
PRIORITY:1
CLASS:PUBLIC
END:VEVENT
BEGIN:VEVENT
UID:20260506etT_83818etetetTermin@centerboard.ch
DTSTART;VALUE=DATE:20260506
DURATION:P1D
LOCATION:Sek Liestal
SUMMARY:BNE Morgen für 3.Klassen
PRIORITY:1
CLASS:PUBLIC
END:VEVENT
BEGIN:VEVENT
UID:20260519etT_83820et17:15:00et19:00:00etTermin@centerboard.ch
DTSTART;TZID=Europe/Zurich:20260519T171500
DTEND;TZID=Europe/Zurich:20260519T190000
LOCATION:Sek Liestal
SUMMARY:Projektarbeit Ausstellung - Open House
PRIORITY:1
CLASS:PUBLIC
END:VEVENT
BEGIN:VEVENT
UID:20260526etT_83821etetetTermin@centerboard.ch
DTSTART;VALUE=DATE:20260526
DURATION:P1D
LOCATION:Burg
SUMMARY:Sporttag Burg
PRIORITY:1
CLASS:PUBLIC
END:VEVENT
BEGIN:VEVENT
UID:20260609etT_83822etetetTermin@centerboard.ch
DTSTART;VALUE=DATE:20260609
DURATION:P1D
LOCATION:Burg
SUMMARY:Sporttag Burg (Verschiebedatum)
PRIORITY:1
CLASS:PUBLIC
END:VEVENT
BEGIN:VEVENT
UID:20260605etT_83823etetetTermin@centerboard.ch
DTSTART;VALUE=DATE:20260605
DURATION:P1D
LOCATION:Frenke
SUMMARY:Sporttag Frenke
PRIORITY:1
CLASS:PUBLIC
END:VEVENT
BEGIN:VEVENT
UID:20260612etT_83824etetetTermin@centerboard.ch
DTSTART;VALUE=DATE:20260612
DURATION:P1D
LOCATION:Frenke
SUMMARY:Sporttag Frenke (Verschiebedatum)
PRIORITY:1
CLASS:PUBLIC
END:VEVENT
BEGIN:VEVENT
UID:20260109etT_83830etetetTermin@centerboard.ch
DTSTART;VALUE=DATE:20260109
DURATION:P1D
LOCATION:Sek Liestal
SUMMARY:Zeugnisabgabe 3. Klassen
PRIORITY:1
CLASS:PUBLIC
END:VEVENT
BEGIN:VEVENT
UID:20260619etT_83831etetetTermin@centerboard.ch
DTSTART;VALUE=DATE:20260619
DURATION:P1D
LOCATION:Sek Liestal
SUMMARY:Zeugnisabgabe 1. + 2.Klassen
PRIORITY:1
CLASS:PUBLIC
END:VEVENT
BEGIN:VEVENT
UID:20260625etT_83832etetetTermin@centerboard.ch
DTSTART;VALUE=DATE:20260625
DURATION:P1D
LOCATION:Sek Liestal
SUMMARY:Abschlussfeier für 3.Klassen
PRIORITY:1
CLASS:PUBLIC
END:VEVENT
BEGIN:VEVENT
UID:20260625etT_83834etetetTermin@centerboard.ch
DTSTART;VALUE=DATE:20260625
DURATION:P1D
LOCATION:Sek Liestal
SUMMARY:Zeugnisabgabe 3. Klassen
PRIORITY:1
CLASS:PUBLIC
END:VEVENT
BEGIN:VEVENT
UID:20251107etT_84042et08:25:00et10:00:00etTermin@centerboard.ch
DTSTART;TZID=Europe/Zurich:20251107T082500
DTEND;TZID=Europe/Zurich:20251107T100000
LOCATION:Aula Frenke
SUMMARY:Podiumsdiskussion: Poltische Diskussion (9. Klassen)
PRIORITY:1
CLASS:PUBLIC
END:VEVENT
BEGIN:VEVENT
UID:20260529etT_84062etetetTermin@centerboard.ch
DTSTART;VALUE=DATE:20260529
DURATION:P1D
LOCATION:Sek Liestal
SUMMARY:Schweiz. Schulsporttag Winterthur
PRIORITY:1
CLASS:PUBLIC
END:VEVENT
BEGIN:VEVENT
UID:20251024etT_84406et08:25:00et11:50:00etTermin@centerboard.ch
DTSTART;TZID=Europe/Zurich:20251024T082500
DTEND;TZID=Europe/Zurich:20251024T115000
LOCATION:Aula Frenke
SUMMARY:Lesung für 2.Klassen (8.25h: 2Af, 2Ag, 2Px, 2Pu; 10.20h: 2Ep, 2Eq, 2Py)
PRIORITY:1
CLASS:PUBLIC
END:VEVENT
BEGIN:VEVENT
UID:20260428etT_84457etetetTermin@centerboard.ch
DTSTART;VALUE=DATE:20260428
DURATION:P1D
LOCATION:Schulhaus Frenke
SUMMARY:Schulhausfest Frenke
PRIORITY:1
CLASS:PUBLIC
END:VEVENT
BEGIN:VEVENT
UID:20260505etT_84522et19:00:00et21:00:00etTermin@centerboard.ch
DTSTART;TZID=Europe/Zurich:20260505T190000
DTEND;TZID=Europe/Zurich:20260505T210000
LOCATION:Schulhaus Fenke
SUMMARY:Informationsabend weiterführende Schulen für 2. Klassen 
PRIORITY:1
CLASS:PUBLIC
END:VEVENT
BEGIN:VEVENT
UID:20260504etT_84573etetetTermin@centerboard.ch
DTSTART;VALUE=DATE:20260504
DURATION:P5D
LOCATION:
SUMMARY:Woche der Berufsbildung BL
PRIORITY:1
CLASS:PUBLIC
END:VEVENT
BEGIN:VEVENT
UID:20270510etT_84574etetetTermin@centerboard.ch
DTSTART;VALUE=DATE:20270510
DURATION:P5D
LOCATION:
SUMMARY:Woche der Berufsbildung BL
PRIORITY:1
CLASS:PUBLIC
END:VEVENT
BEGIN:VEVENT
UID:20251024etT_84960et19:30:00et21:30:00etTermin@centerboard.ch
DTSTART;TZID=Europe/Zurich:20251024T193000
DTEND;TZID=Europe/Zurich:20251024T213000
LOCATION:Aula Frenke
SUMMARY:Schulhausparty Frenke
PRIORITY:1
CLASS:PUBLIC
END:VEVENT
BEGIN:VEVENT
UID:20260522etT_84961et19:30:00et21:30:00etTermin@centerboard.ch
DTSTART;TZID=Europe/Zurich:20260522T193000
DTEND;TZID=Europe/Zurich:20260522T213000
LOCATION:Aula Frenke
SUMMARY:Schulhausparty (Frenke)
PRIORITY:1
CLASS:PUBLIC
END:VEVENT
BEGIN:VEVENT
UID:20251023etT_85254etetetTermin@centerboard.ch
DTSTART;VALUE=DATE:20251023
DURATION:P1D
LOCATION:Pratteln
SUMMARY:Elternabend BO 2Eq, 2Py, 2Em im LBZ
PRIORITY:1
CLASS:PUBLIC
END:VEVENT
BEGIN:VEVENT
UID:20251114etT_85385et12:15:00et13:00:00etTermin@centerboard.ch
DTSTART;TZID=Europe/Zurich:20251114T121500
DTEND;TZID=Europe/Zurich:20251114T130000
LOCATION:Z 2.14
SUMMARY:Biberwettbewerb für SuS (freiwillig)
PRIORITY:1
CLASS:PUBLIC
END:VEVENT
BEGIN:VEVENT
UID:20251121etT_85804et12:15:00et13:00:00etTermin@centerboard.ch
DTSTART;TZID=Europe/Zurich:20251121T121500
DTEND;TZID=Europe/Zurich:20251121T130000
LOCATION:Frenke Z 2.01
SUMMARY:SuSParla-Sitzung Frenke
PRIORITY:1
CLASS:PUBLIC
END:VEVENT
BEGIN:VEVENT
UID:20260123etT_85805et12:15:00et13:00:00etTermin@centerboard.ch
DTSTART;TZID=Europe/Zurich:20260123T121500
DTEND;TZID=Europe/Zurich:20260123T130000
LOCATION:Frenke Z 2.01
SUMMARY:SuSParla-Sitzung Frenke
PRIORITY:1
CLASS:PUBLIC
END:VEVENT
BEGIN:VEVENT
UID:20260313etT_85806et12:15:00et13:00:00etTermin@centerboard.ch
DTSTART;TZID=Europe/Zurich:20260313T121500
DTEND;TZID=Europe/Zurich:20260313T130000
LOCATION:Frenke Z 2.01
SUMMARY:SuSParla-Sitzung Frenke
PRIORITY:1
CLASS:PUBLIC
END:VEVENT
BEGIN:VEVENT
UID:20260529etT_85807et12:15:00et13:00:00etTermin@centerboard.ch
DTSTART;TZID=Europe/Zurich:20260529T121500
DTEND;TZID=Europe/Zurich:20260529T130000
LOCATION:Frenke Z 2.01
SUMMARY:SuSParla-Sitzung Frenke
PRIORITY:1
CLASS:PUBLIC
END:VEVENT
BEGIN:VEVENT
UID:20260120etT_86676et07:30:00et11:50:00etTermin@centerboard.ch
DTSTART;TZID=Europe/Zurich:20260120T073000
DTEND;TZID=Europe/Zurich:20260120T115000
LOCATION:
SUMMARY:Check S2 Deutsch Schreiben
PRIORITY:1
CLASS:PUBLIC
END:VEVENT
BEGIN:VEVENT
UID:20260122etT_86677et07:30:00et11:50:00etTermin@centerboard.ch
DTSTART;TZID=Europe/Zurich:20260122T073000
DTEND;TZID=Europe/Zurich:20260122T115000
LOCATION:
SUMMARY:Check S2 Französisch Schreiben
PRIORITY:1
CLASS:PUBLIC
END:VEVENT
BEGIN:VEVENT
UID:20260216etT_86679etetetTermin@centerboard.ch
DTSTART;VALUE=DATE:20260216
DURATION:P40D
LOCATION:
SUMMARY:Check S2 online
PRIORITY:1
CLASS:PUBLIC
END:VEVENT
BEGIN:VEVENT
UID:20260317etT_86680et07:30:00et11:50:00etTermin@centerboard.ch
DTSTART;TZID=Europe/Zurich:20260317T073000
DTEND;TZID=Europe/Zurich:20260317T115000
LOCATION:
SUMMARY:Check S3 Deutsch Schreiben
PRIORITY:1
CLASS:PUBLIC
END:VEVENT
BEGIN:VEVENT
UID:20260319etT_86681et07:30:00et11:50:00etTermin@centerboard.ch
DTSTART;TZID=Europe/Zurich:20260319T073000
DTEND;TZID=Europe/Zurich:20260319T115000
LOCATION:
SUMMARY:Check S3 Französisch Schreiben
PRIORITY:1
CLASS:PUBLIC
END:VEVENT
BEGIN:VEVENT
UID:20260413etT_86683etetetTermin@centerboard.ch
DTSTART;VALUE=DATE:20260413
DURATION:P40D
LOCATION:
SUMMARY:Check S3 online
PRIORITY:1
CLASS:PUBLIC
END:VEVENT
BEGIN:VEVENT
UID:20260611etT_87191etetetTermin@centerboard.ch
DTSTART;VALUE=DATE:20260611
DURATION:P1D
LOCATION:Burg / Frenke
SUMMARY:Schularzt 2. Klassen
PRIORITY:1
CLASS:PUBLIC
END:VEVENT
BEGIN:VEVENT
UID:20270527etT_87981etetetTermin@centerboard.ch
DTSTART;VALUE=DATE:20270527
DURATION:P1D
LOCATION:Alle Sportanlagen Liestal
SUMMARY:Schweizerischer Schulsporttag in Liestal
PRIORITY:1
CLASS:PUBLIC
END:VEVENT
BEGIN:VEVENT
UID:20260618etT_88395etetetTermin@centerboard.ch
DTSTART;VALUE=DATE:20260618
DURATION:P1D
LOCATION:Frenke
SUMMARY:Schularzt 2. Klassen
PRIORITY:1
CLASS:PUBLIC
END:VEVENT
BEGIN:VEVENT
UID:20260306etT_88646et09:15:00et11:05:00etTermin@centerboard.ch
DTSTART;TZID=Europe/Zurich:20260306T091500
DTEND;TZID=Europe/Zurich:20260306T110500
LOCATION:Aula Frenke
SUMMARY:Schulkonzert für 1. Klassen Frenke (siehe kulturelle Anlässe)
PRIORITY:1
CLASS:PUBLIC
END:VEVENT
BEGIN:VEVENT
UID:20260320etT_88647et09:10:00et11:00:00etTermin@centerboard.ch
DTSTART;TZID=Europe/Zurich:20260320T091000
DTEND;TZID=Europe/Zurich:20260320T110000
LOCATION:Aula Burg
SUMMARY:Schulkonzert für 1. Klassen Burg (siehe kulturelle Anlässe)
PRIORITY:1
CLASS:PUBLIC
END:VEVENT
BEGIN:VEVENT
UID:20260611etT_88765et18:15:00et19:15:00etTermin@centerboard.ch
DTSTART;TZID=Europe/Zurich:20260611T181500
DTEND;TZID=Europe/Zurich:20260611T191500
LOCATION:Aula Frenke
SUMMARY:Zertifikatsfeier LIFT (für LIFT SuS)
PRIORITY:1
CLASS:PUBLIC
END:VEVENT
BEGIN:VEVENT
UID:20251220etT_frn_73etetetTermin@centerboard.ch
DTSTART;VALUE=DATE:20251220
DURATION:P16D
LOCATION:
SUMMARY:Weihnachtsferien 2025
PRIORITY:1
CLASS:PUBLIC
END:VEVENT
BEGIN:VEVENT
UID:20260214etT_frn_74etetetTermin@centerboard.ch
DTSTART;VALUE=DATE:20260214
DURATION:P16D
LOCATION:
SUMMARY:Fasnachtsferien 2026
PRIORITY:1
CLASS:PUBLIC
END:VEVENT
BEGIN:VEVENT
UID:20260501etT_frn_75etetetTermin@centerboard.ch
DTSTART;VALUE=DATE:20260501
DURATION:P1D
LOCATION:
SUMMARY:Tag der Arbeit 2026
PRIORITY:1
CLASS:PUBLIC
END:VEVENT
BEGIN:VEVENT
UID:20260328etT_frn_76etetetTermin@centerboard.ch
DTSTART;VALUE=DATE:20260328
DURATION:P16D
LOCATION:
SUMMARY:Frühjahrsferien 2026
PRIORITY:1
CLASS:PUBLIC
END:VEVENT
BEGIN:VEVENT
UID:20260627etT_frn_77etetetTermin@centerboard.ch
DTSTART;VALUE=DATE:20260627
DURATION:P44D
LOCATION:
SUMMARY:Sommerferien 2026
PRIORITY:1
CLASS:PUBLIC
END:VEVENT
BEGIN:VEVENT
UID:20260511etT_frn_78etetetTermin@centerboard.ch
DTSTART;VALUE=DATE:20260511
DURATION:P1D
LOCATION:
SUMMARY:Banntag 2026
PRIORITY:1
CLASS:PUBLIC
END:VEVENT
BEGIN:VEVENT
UID:20260514etT_frn_79etetetTermin@centerboard.ch
DTSTART;VALUE=DATE:20260514
DURATION:P2D
LOCATION:
SUMMARY:Auffahrt und Brücke 2026
PRIORITY:1
CLASS:PUBLIC
END:VEVENT
BEGIN:VEVENT
UID:20260525etT_frn_80etetetTermin@centerboard.ch
DTSTART;VALUE=DATE:20260525
DURATION:P1D
LOCATION:
SUMMARY:Pfingsten 2026
PRIORITY:1
CLASS:PUBLIC
END:VEVENT
BEGIN:VEVENT
UID:20260926etT_frn_81etetetTermin@centerboard.ch
DTSTART;VALUE=DATE:20260926
DURATION:P16D
LOCATION:
SUMMARY:Herbstferien 2026
PRIORITY:1
CLASS:PUBLIC
END:VEVENT
BEGIN:VEVENT
UID:20261219etT_frn_82etetetTermin@centerboard.ch
DTSTART;VALUE=DATE:20261219
DURATION:P16D
LOCATION:
SUMMARY:Weihnachtsferien 2026
PRIORITY:1
CLASS:PUBLIC
END:VEVENT
BEGIN:VEVENT
UID:20270206etT_frn_83etetetTermin@centerboard.ch
DTSTART;VALUE=DATE:20270206
DURATION:P16D
LOCATION:
SUMMARY:Fasnachtsferien 2027
PRIORITY:1
CLASS:PUBLIC
END:VEVENT
BEGIN:VEVENT
UID:20270320etT_frn_84etetetTermin@centerboard.ch
DTSTART;VALUE=DATE:20270320
DURATION:P16D
LOCATION:
SUMMARY:Frühjahrsferien 2027
PRIORITY:1
CLASS:PUBLIC
END:VEVENT
BEGIN:VEVENT
UID:20270506etT_frn_85etetetTermin@centerboard.ch
DTSTART;VALUE=DATE:20270506
DURATION:P2D
LOCATION:
SUMMARY:Auffahrt und Brücke 2027
PRIORITY:1
CLASS:PUBLIC
END:VEVENT
BEGIN:VEVENT
UID:20270517etT_frn_86etetetTermin@centerboard.ch
DTSTART;VALUE=DATE:20270517
DURATION:P1D
LOCATION:
SUMMARY:Pfingsten 2027
PRIORITY:1
CLASS:PUBLIC
END:VEVENT
BEGIN:VEVENT
UID:20270503etT_frn_87etetetTermin@centerboard.ch
DTSTART;VALUE=DATE:20270503
DURATION:P1D
LOCATION:
SUMMARY:Banntag 2027
PRIORITY:1
CLASS:PUBLIC
END:VEVENT
BEGIN:VEVENT
UID:20270703etT_frn_88etetetTermin@centerboard.ch
DTSTART;VALUE=DATE:20270703
DURATION:P44D
LOCATION:
SUMMARY:Sommerferien 2027
PRIORITY:1
CLASS:PUBLIC
END:VEVENT
BEGIN:VEVENT
UID:20271002etT_frn_89etetetTermin@centerboard.ch
DTSTART;VALUE=DATE:20271002
DURATION:P16D
LOCATION:
SUMMARY:Herbstferien 2027
PRIORITY:1
CLASS:PUBLIC
END:VEVENT
BEGIN:VEVENT
UID:20271218etT_frn_90etetetTermin@centerboard.ch
DTSTART;VALUE=DATE:20271218
DURATION:P16D
LOCATION:
SUMMARY:Weihnachtsferien 2027
PRIORITY:1
CLASS:PUBLIC
END:VEVENT
BEGIN:VEVENT
UID:20280226etT_frn_91etetetTermin@centerboard.ch
DTSTART;VALUE=DATE:20280226
DURATION:P16D
LOCATION:
SUMMARY:Fasnachtsferien 2028
PRIORITY:1
CLASS:PUBLIC
END:VEVENT
BEGIN:VEVENT
UID:20280408etT_frn_92etetetTermin@centerboard.ch
DTSTART;VALUE=DATE:20280408
DURATION:P3D
LOCATION:
SUMMARY:Frühjahrsferien 2028
PRIORITY:1
CLASS:PUBLIC
END:VEVENT
BEGIN:VEVENT
UID:20260126etT_frn_102etetetTermin@centerboard.ch
DTSTART;VALUE=DATE:20260126
DURATION:P5D
LOCATION:
SUMMARY:Spezialwoche Winter
PRIORITY:1
CLASS:PUBLIC
END:VEVENT
BEGIN:VEVENT
UID:20260622etT_frn_103et00:00:00.0000000et23:59:00.0000000etTermin@centerboard.ch
DTSTART;TZID=Europe/Zurich:20260622T000000
DTEND;TZID=Europe/Zurich:20260626T235900
LOCATION:
SUMMARY:Spezialwoche Sommer
PRIORITY:1
CLASS:PUBLIC
END:VEVENT
BEGIN:VEVENT
UID:20270201etT_frn_104etetetTermin@centerboard.ch
DTSTART;VALUE=DATE:20270201
DURATION:P5D
LOCATION:
SUMMARY:Spezialwoche Winter Frenke
PRIORITY:1
CLASS:PUBLIC
END:VEVENT
BEGIN:VEVENT
UID:20270125etT_frn_105etetetTermin@centerboard.ch
DTSTART;VALUE=DATE:20270125
DURATION:P5D
LOCATION:
SUMMARY:Spezialwoche Winter Burg
PRIORITY:1
CLASS:PUBLIC
END:VEVENT
BEGIN:VEVENT
UID:20280131etT_frn_106etetetTermin@centerboard.ch
DTSTART;VALUE=DATE:20280131
DURATION:P5D
LOCATION:
SUMMARY:Spezialwoche Winter Sek Liestal
PRIORITY:1
CLASS:PUBLIC
END:VEVENT
END:VCALENDAR